BEGIN:VCALENDAR
VERSION:2.0
PRODID:-//The Different Drum - ECPv6.15.20//NONSGML v1.0//EN
CALSCALE:GREGORIAN
METHOD:PUBLISH
X-WR-CALNAME:The Different Drum
X-ORIGINAL-URL:https://thedifferentdrum.net
X-WR-CALDESC:Events for The Different Drum
REFRESH-INTERVAL;VALUE=DURATION:PT1H
X-Robots-Tag:noindex
X-PUBLISHED-TTL:PT1H
BEGIN:VTIMEZONE
TZID:America/Los_Angeles
BEGIN:DAYLIGHT
TZOFFSETFROM:-0800
TZOFFSETTO:-0700
TZNAME:PDT
DTSTART:20250309T100000
END:DAYLIGHT
BEGIN:STANDARD
TZOFFSETFROM:-0700
TZOFFSETTO:-0800
TZNAME:PST
DTSTART:20251102T090000
END:STANDARD
BEGIN:DAYLIGHT
TZOFFSETFROM:-0800
TZOFFSETTO:-0700
TZNAME:PDT
DTSTART:20260308T100000
END:DAYLIGHT
BEGIN:STANDARD
TZOFFSETFROM:-0700
TZOFFSETTO:-0800
TZNAME:PST
DTSTART:20261101T090000
END:STANDARD
BEGIN:DAYLIGHT
TZOFFSETFROM:-0800
TZOFFSETTO:-0700
TZNAME:PDT
DTSTART:20270314T100000
END:DAYLIGHT
BEGIN:STANDARD
TZOFFSETFROM:-0700
TZOFFSETTO:-0800
TZNAME:PST
DTSTART:20271107T090000
END:STANDARD
END:VTIMEZONE
BEGIN:VEVENT
DTSTART;VALUE=DATE:20260605
DTEND;VALUE=DATE:20260609
DTSTAMP:20260423T045605
CREATED:20251228T154345Z
LAST-MODIFIED:20260226T210652Z
UID:1466-1780617600-1780963199@thedifferentdrum.net
SUMMARY:Magickal Drumming Retreat
DESCRIPTION:Please find all information here.
URL:https://thedifferentdrum.net/event/magickal-drumming-retreat/
END:VEVENT
BEGIN:VEVENT
DTSTART;VALUE=DATE:20261002
DTEND;VALUE=DATE:20261006
DTSTAMP:20260423T045605
CREATED:20251228T155449Z
LAST-MODIFIED:20251228T155449Z
UID:1468-1790899200-1791244799@thedifferentdrum.net
SUMMARY:Magickal Drumming Retreat
DESCRIPTION:Please find all information and registration here.
URL:https://thedifferentdrum.net/event/magickal-drumming-retreat-2/
END:VEVENT
END:VCALENDAR